BEGIN:VCALENDAR
VERSION:2.0
PRODID:-//Bildungszentrum Logistik - ECPv6.15.20//NONSGML v1.0//EN
CALSCALE:GREGORIAN
METHOD:PUBLISH
X-ORIGINAL-URL:https://www.bildungszentrum-logistik.at
X-WR-CALDESC:Veranstaltungen für Bildungszentrum Logistik
REFRESH-INTERVAL;VALUE=DURATION:PT1H
X-Robots-Tag:noindex
X-PUBLISHED-TTL:PT1H
BEGIN:VTIMEZONE
TZID:Europe/Vienna
BEGIN:DAYLIGHT
TZOFFSETFROM:+0100
TZOFFSETTO:+0200
TZNAME:CEST
DTSTART:20200329T010000
END:DAYLIGHT
BEGIN:STANDARD
TZOFFSETFROM:+0200
TZOFFSETTO:+0100
TZNAME:CET
DTSTART:20201025T010000
END:STANDARD
BEGIN:DAYLIGHT
TZOFFSETFROM:+0100
TZOFFSETTO:+0200
TZNAME:CEST
DTSTART:20210328T010000
END:DAYLIGHT
BEGIN:STANDARD
TZOFFSETFROM:+0200
TZOFFSETTO:+0100
TZNAME:CET
DTSTART:20211031T010000
END:STANDARD
BEGIN:DAYLIGHT
TZOFFSETFROM:+0100
TZOFFSETTO:+0200
TZNAME:CEST
DTSTART:20220327T010000
END:DAYLIGHT
BEGIN:STANDARD
TZOFFSETFROM:+0200
TZOFFSETTO:+0100
TZNAME:CET
DTSTART:20221030T010000
END:STANDARD
BEGIN:DAYLIGHT
TZOFFSETFROM:+0100
TZOFFSETTO:+0200
TZNAME:CEST
DTSTART:20230326T010000
END:DAYLIGHT
BEGIN:STANDARD
TZOFFSETFROM:+0200
TZOFFSETTO:+0100
TZNAME:CET
DTSTART:20231029T010000
END:STANDARD
END:VTIMEZONE
BEGIN:VEVENT
DTSTART;VALUE=DATE:20220118
DTEND;VALUE=DATE:20220123
DTSTAMP:20260423T102247
CREATED:20211006T094924Z
LAST-MODIFIED:20211006T094924Z
UID:10000157-1642464000-1642895999@www.bildungszentrum-logistik.at
SUMMARY:Weiterbildung für Berufskraftfahrer C95
DESCRIPTION:Durchführung der gesetzlich gemäß Richtlinie 2003/59EG des Europäischen Parlaments und Rates vom 15. Juli 2003 vorgeschriebenen 35 Stunden Fortbildung innerhalb von 5 Jahren für Berufskraftfahrer der Führerscheingruppen C\, C1 und D. \nJe Modul 1 Unterrichtstag zu 7 Stunden \nKursdauer: jeweils von 08:00 – 16:00 Uhr \nFortbildungsmodul 1: Praxis ECO-Training\n• Wirtschaftliche Fahrtechniken\n• Spritverbrauch sinnvoll senken\n• Fahren nach Drehzahlmesser\n• Praxisteil \nFortbildungsmodul 2: Sicherheitstechnik & Fahrsicherheit Theorie\n• Risiken im Straßenverkehr\n• Wirtschaftlich Fahren\n• Technische Wartung\n• Fahrsicherheit und Sicherheitssysteme \nFortbildungsmodul 3: Ladungssicherung\n• Verantwortlichkeiten\n• Physikalische Grundlagen\n• Sicherungsmethoden\n• Praxisübungen \nFortbildungsmodul 4: Fahrgastsicherheit\n• Pflichten des Fahrzeugführers\n• Vorschriften für den Personalverkehr\n• Sicherheit und Komfort der Fahrgäste\n• Gesundheitsschäden vorbeugen \nFortbildungsmodul 5: Sozialrechtliche Vorschriften\n• Fahr-/Lenk- und Ruhezeiten\n• Kontrollgeräte\, Digital-Tachograph\, Analog-Tachograph\n• Praxisübungen Digital-Tachograph\n• Vorschriften für den Güterverkehr \nFortbildungsmodul 6: Schaltstelle Fahrer-Gesundheit\n• Kommunikation\n• Erste Hilfe\n• Gesundheit im Job\n• Ernährung \n Jetzt anmelden & Termin vereinbaren
URL:https://www.bildungszentrum-logistik.at/termin/weiterbildung-fuer-berufskraftfahrer-c95-17/
LOCATION:Bildungszentrum Regional in Eben\, Durnmarktweg 2\, Eben im Pongau\, Salzburg\, 5531\, Österreich
CATEGORIES:Berufskraftfahrer
END:VEVENT
BEGIN:VEVENT
DTSTART;VALUE=DATE:20211105
DTEND;VALUE=DATE:20211108
DTSTAMP:20260423T102247
CREATED:20211006T094232Z
LAST-MODIFIED:20211006T094232Z
UID:10000122-1636070400-1636329599@www.bildungszentrum-logistik.at
SUMMARY:Weiterbildung für Berufskraftfahrer C95
DESCRIPTION:Durchführung der gesetzlich gemäß Richtlinie 2003/59EG des Europäischen Parlaments und Rates vom 15. Juli 2003 vorgeschriebenen 35 Stunden Fortbildung innerhalb von 5 Jahren für Berufskraftfahrer der Führerscheingruppen C\, C1 und D. \nJe Modul 1 Unterrichtstag zu 7 Stunden \nKursdauer: jeweils von 08:00 – 16:00 Uhr \nFortbildungsmodul 1: Praxis ECO-Training\n• Wirtschaftliche Fahrtechniken\n• Spritverbrauch sinnvoll senken\n• Fahren nach Drehzahlmesser\n• Praxisteil \nFortbildungsmodul 2: Sicherheitstechnik & Fahrsicherheit Theorie\n• Risiken im Straßenverkehr\n• Wirtschaftlich Fahren\n• Technische Wartung\n• Fahrsicherheit und Sicherheitssysteme \nFortbildungsmodul 3: Ladungssicherung\n• Verantwortlichkeiten\n• Physikalische Grundlagen\n• Sicherungsmethoden\n• Praxisübungen \nFortbildungsmodul 4: Fahrgastsicherheit\n• Pflichten des Fahrzeugführers\n• Vorschriften für den Personalverkehr\n• Sicherheit und Komfort der Fahrgäste\n• Gesundheitsschäden vorbeugen \nFortbildungsmodul 5: Sozialrechtliche Vorschriften\n• Fahr-/Lenk- und Ruhezeiten\n• Kontrollgeräte\, Digital-Tachograph\, Analog-Tachograph\n• Praxisübungen Digital-Tachograph\n• Vorschriften für den Güterverkehr \nFortbildungsmodul 6: Schaltstelle Fahrer-Gesundheit\n• Kommunikation\n• Erste Hilfe\n• Gesundheit im Job\n• Ernährung \n Jetzt anmelden & Termin vereinbaren
URL:https://www.bildungszentrum-logistik.at/termin/weiterbildung-fuer-berufskraftfahrer-c95-16/
LOCATION:Bildungszentrum Regional in Eben\, Durnmarktweg 2\, Eben im Pongau\, Salzburg\, 5531\, Österreich
CATEGORIES:Berufskraftfahrer
END:VEVENT
BEGIN:VEVENT
DTSTART;VALUE=DATE:20211029
DTEND;VALUE=DATE:20211031
DTSTAMP:20260423T102247
CREATED:20211006T094156Z
LAST-MODIFIED:20211006T094156Z
UID:10000121-1635465600-1635638399@www.bildungszentrum-logistik.at
SUMMARY:Weiterbildung für Berufskraftfahrer C95
DESCRIPTION:Durchführung der gesetzlich gemäß Richtlinie 2003/59EG des Europäischen Parlaments und Rates vom 15. Juli 2003 vorgeschriebenen 35 Stunden Fortbildung innerhalb von 5 Jahren für Berufskraftfahrer der Führerscheingruppen C\, C1 und D. \nJe Modul 1 Unterrichtstag zu 7 Stunden \nKursdauer: jeweils von 08:00 – 16:00 Uhr \nFortbildungsmodul 1: Praxis ECO-Training\n• Wirtschaftliche Fahrtechniken\n• Spritverbrauch sinnvoll senken\n• Fahren nach Drehzahlmesser\n• Praxisteil \nFortbildungsmodul 2: Sicherheitstechnik & Fahrsicherheit Theorie\n• Risiken im Straßenverkehr\n• Wirtschaftlich Fahren\n• Technische Wartung\n• Fahrsicherheit und Sicherheitssysteme \nFortbildungsmodul 3: Ladungssicherung\n• Verantwortlichkeiten\n• Physikalische Grundlagen\n• Sicherungsmethoden\n• Praxisübungen \nFortbildungsmodul 4: Fahrgastsicherheit\n• Pflichten des Fahrzeugführers\n• Vorschriften für den Personalverkehr\n• Sicherheit und Komfort der Fahrgäste\n• Gesundheitsschäden vorbeugen \nFortbildungsmodul 5: Sozialrechtliche Vorschriften\n• Fahr-/Lenk- und Ruhezeiten\n• Kontrollgeräte\, Digital-Tachograph\, Analog-Tachograph\n• Praxisübungen Digital-Tachograph\n• Vorschriften für den Güterverkehr \nFortbildungsmodul 6: Schaltstelle Fahrer-Gesundheit\n• Kommunikation\n• Erste Hilfe\n• Gesundheit im Job\n• Ernährung \n Jetzt anmelden & Termin vereinbaren
URL:https://www.bildungszentrum-logistik.at/termin/weiterbildung-fuer-berufskraftfahrer-c95-15/
LOCATION:Bildungszentrum Regional in Eben\, Durnmarktweg 2\, Eben im Pongau\, Salzburg\, 5531\, Österreich
CATEGORIES:Berufskraftfahrer
END:VEVENT
BEGIN:VEVENT
DTSTART;VALUE=DATE:20210827
DTEND;VALUE=DATE:20210830
DTSTAMP:20260423T102247
CREATED:20210622T080526Z
LAST-MODIFIED:20210812T091648Z
UID:10000154-1630022400-1630281599@www.bildungszentrum-logistik.at
SUMMARY:Weiterbildung für Berufskraftfahrer C95
DESCRIPTION:Durchführung der gesetzlich gemäß Richtlinie 2003/59EG des Europäischen Parlaments und Rates vom 15. Juli 2003 vorgeschriebenen 35 Stunden Fortbildung innerhalb von 5 Jahren für Berufskraftfahrer der Führerscheingruppen C\, C1 und D. \nJe Modul 1 Unterrichtstag zu 7 Stunden \nKursdauer: jeweils von 08:00 – 16:00 Uhr \nFortbildungsmodul 1: Praxis ECO-Training\n• Wirtschaftliche Fahrtechniken\n• Spritverbrauch sinnvoll senken\n• Fahren nach Drehzahlmesser\n• Praxisteil \nFortbildungsmodul 2: Sicherheitstechnik & Fahrsicherheit Theorie\n• Risiken im Straßenverkehr\n• Wirtschaftlich Fahren\n• Technische Wartung\n• Fahrsicherheit und Sicherheitssysteme \nFortbildungsmodul 3: Ladungssicherung\n• Verantwortlichkeiten\n• Physikalische Grundlagen\n• Sicherungsmethoden\n• Praxisübungen \nFortbildungsmodul 4: Fahrgastsicherheit\n• Pflichten des Fahrzeugführers\n• Vorschriften für den Personalverkehr\n• Sicherheit und Komfort der Fahrgäste\n• Gesundheitsschäden vorbeugen \nFortbildungsmodul 5: Sozialrechtliche Vorschriften\n• Fahr-/Lenk- und Ruhezeiten\n• Kontrollgeräte\, Digital-Tachograph\, Analog-Tachograph\n• Praxisübungen Digital-Tachograph\n• Vorschriften für den Güterverkehr \nFortbildungsmodul 6: Schaltstelle Fahrer-Gesundheit\n• Kommunikation\n• Erste Hilfe\n• Gesundheit im Job\n• Ernährung \n Jetzt anmelden & Termin vereinbaren
URL:https://www.bildungszentrum-logistik.at/termin/weiterbildung-fuer-berufskraftfahrer-c95-9/
LOCATION:Bildungszentrum Regional in Eben\, Durnmarktweg 2\, Eben im Pongau\, Salzburg\, 5531\, Österreich
CATEGORIES:Berufskraftfahrer
END:VEVENT
BEGIN:VEVENT
DTSTART;VALUE=DATE:20210820
DTEND;VALUE=DATE:20210822
DTSTAMP:20260423T102247
CREATED:20210622T080630Z
LAST-MODIFIED:20210812T091615Z
UID:10000155-1629417600-1629590399@www.bildungszentrum-logistik.at
SUMMARY:Weiterbildung für Berufskraftfahrer C95
DESCRIPTION:Durchführung der gesetzlich gemäß Richtlinie 2003/59EG des Europäischen Parlaments und Rates vom 15. Juli 2003 vorgeschriebenen 35 Stunden Fortbildung innerhalb von 5 Jahren für Berufskraftfahrer der Führerscheingruppen C\, C1 und D. \nJe Modul 1 Unterrichtstag zu 7 Stunden \nKursdauer: jeweils von 08:00 – 16:00 Uhr \nFortbildungsmodul 1: Praxis ECO-Training\n• Wirtschaftliche Fahrtechniken\n• Spritverbrauch sinnvoll senken\n• Fahren nach Drehzahlmesser\n• Praxisteil \nFortbildungsmodul 2: Sicherheitstechnik & Fahrsicherheit Theorie\n• Risiken im Straßenverkehr\n• Wirtschaftlich Fahren\n• Technische Wartung\n• Fahrsicherheit und Sicherheitssysteme \nFortbildungsmodul 3: Ladungssicherung\n• Verantwortlichkeiten\n• Physikalische Grundlagen\n• Sicherungsmethoden\n• Praxisübungen \nFortbildungsmodul 4: Fahrgastsicherheit\n• Pflichten des Fahrzeugführers\n• Vorschriften für den Personalverkehr\n• Sicherheit und Komfort der Fahrgäste\n• Gesundheitsschäden vorbeugen \nFortbildungsmodul 5: Sozialrechtliche Vorschriften\n• Fahr-/Lenk- und Ruhezeiten\n• Kontrollgeräte\, Digital-Tachograph\, Analog-Tachograph\n• Praxisübungen Digital-Tachograph\n• Vorschriften für den Güterverkehr \nFortbildungsmodul 6: Schaltstelle Fahrer-Gesundheit\n• Kommunikation\n• Erste Hilfe\n• Gesundheit im Job\n• Ernährung \n Jetzt anmelden & Termin vereinbaren
URL:https://www.bildungszentrum-logistik.at/termin/weiterbildung-fuer-berufskraftfahrer-c95-10/
LOCATION:Bildungszentrum Regional in Eben\, Durnmarktweg 2\, Eben im Pongau\, Salzburg\, 5531\, Österreich
CATEGORIES:Berufskraftfahrer
END:VEVENT
END:VCALENDAR