BEGIN:VCALENDAR
VERSION:2.0
PRODID:-//Bildungszentrum Logistik - ECPv6.15.20//NONSGML v1.0//EN
CALSCALE:GREGORIAN
METHOD:PUBLISH
X-WR-CALNAME:Bildungszentrum Logistik
X-ORIGINAL-URL:https://www.bildungszentrum-logistik.at
X-WR-CALDESC:Veranstaltungen für Bildungszentrum Logistik
REFRESH-INTERVAL;VALUE=DURATION:PT1H
X-Robots-Tag:noindex
X-PUBLISHED-TTL:PT1H
BEGIN:VTIMEZONE
TZID:Europe/Vienna
BEGIN:DAYLIGHT
TZOFFSETFROM:+0100
TZOFFSETTO:+0200
TZNAME:CEST
DTSTART:20250330T010000
END:DAYLIGHT
BEGIN:STANDARD
TZOFFSETFROM:+0200
TZOFFSETTO:+0100
TZNAME:CET
DTSTART:20251026T010000
END:STANDARD
BEGIN:DAYLIGHT
TZOFFSETFROM:+0100
TZOFFSETTO:+0200
TZNAME:CEST
DTSTART:20260329T010000
END:DAYLIGHT
BEGIN:STANDARD
TZOFFSETFROM:+0200
TZOFFSETTO:+0100
TZNAME:CET
DTSTART:20261025T010000
END:STANDARD
BEGIN:DAYLIGHT
TZOFFSETFROM:+0100
TZOFFSETTO:+0200
TZNAME:CEST
DTSTART:20270328T010000
END:DAYLIGHT
BEGIN:STANDARD
TZOFFSETFROM:+0200
TZOFFSETTO:+0100
TZNAME:CET
DTSTART:20271031T010000
END:STANDARD
END:VTIMEZONE
BEGIN:VEVENT
DTSTART;VALUE=DATE:20260424
DTEND;VALUE=DATE:20260426
DTSTAMP:20260420T100609
CREATED:20251104T091335Z
LAST-MODIFIED:20251104T091335Z
UID:10000371-1776988800-1777161599@www.bildungszentrum-logistik.at
SUMMARY:2 Tage - Ausbildung zum Hubstaplerfahrer in Salzburg
DESCRIPTION:Ausbildung gemäß §11 der österreichischen Fachkenntnisnachweis-Verordnung BGBL II Nr.13/2007 des Bundeministeriums für wirtschaftliche Angelegenheiten sowie den Regelwerken des Arbeitnehmerschutzgesetzes/Arbeitsmittelverordnung.\nMindestalter 18 Jahre. Deutschkenntnisse in Wort und Schrift erforderlich. \n  \nKursdatum: 24.04.2026 -25.04.2026 \nKurszeiten: Freitag ab 13:00Uhr\, Samstag ab 08:00Uhr \nVeranstaltungsort: Bildungszentrum Logistik GmbH & Co KG\, Rottfeld 7\, 5020 Salzburg  \n21 Unterrichtseinheiten zu je 50 Minuten – Nutzen Sie unser FR/SA 2-Tageskurs-Angebot! \nIhr Vorteil: Nach erfolgreicher praktischer und theoretischer Prüfung erhalten Sie den Hubstaplerführerausweis\, der Sie zum Lenken und Bedienen von Hubstaplern und Flurförderfahrzeugen berechtigt. \nKursinhalte:\n• Antriebs- und Bedienungsarten\n• Ausrüstung\, Technik und Pflege des Gerätes\n• Wiederkehrende Überprüfung\n• Standsicherheit\n• Tragfähigkeit und Lastendiagramm\n• Staplerbetrieb\n• Sondereinsatz\, Heben und Mitfahren von Personen\n• Verhalten in Gefahrensituationen\n• Verbote\n• Praxisübungen\n• Prüfung Theorie & Praxis \n Jetzt anmelden & Termin vereinbaren
URL:https://www.bildungszentrum-logistik.at/termin/2-tage-ausbildung-zum-hubstaplerfahrer-in-salzburg-29/
LOCATION:BZL in Salzburg\, Rottfeld 7\, Salzburg\, 5020\, Österreich
CATEGORIES:Hubstaplerfahrer
END:VEVENT
BEGIN:VEVENT
DTSTART;VALUE=DATE:20260529
DTEND;VALUE=DATE:20260531
DTSTAMP:20260420T100609
CREATED:20251104T091612Z
LAST-MODIFIED:20251104T091612Z
UID:10000373-1780012800-1780185599@www.bildungszentrum-logistik.at
SUMMARY:2 Tage - Ausbildung zum Hubstaplerfahrer in Salzburg
DESCRIPTION:Ausbildung gemäß §11 der österreichischen Fachkenntnisnachweis-Verordnung BGBL II Nr.13/2007 des Bundeministeriums für wirtschaftliche Angelegenheiten sowie den Regelwerken des Arbeitnehmerschutzgesetzes/Arbeitsmittelverordnung.\nMindestalter 18 Jahre. Deutschkenntnisse in Wort und Schrift erforderlich. \n  \nKursdatum: 29.05.2026 -30.05.2026 \nKurszeiten: Freitag ab 13:00Uhr\, Samstag ab 08:00Uhr \nVeranstaltungsort: Bildungszentrum Logistik GmbH & Co KG\, Rottfeld 7\, 5020 Salzburg  \n21 Unterrichtseinheiten zu je 50 Minuten – Nutzen Sie unser FR/SA 2-Tageskurs-Angebot! \nIhr Vorteil: Nach erfolgreicher praktischer und theoretischer Prüfung erhalten Sie den Hubstaplerführerausweis\, der Sie zum Lenken und Bedienen von Hubstaplern und Flurförderfahrzeugen berechtigt. \nKursinhalte:\n• Antriebs- und Bedienungsarten\n• Ausrüstung\, Technik und Pflege des Gerätes\n• Wiederkehrende Überprüfung\n• Standsicherheit\n• Tragfähigkeit und Lastendiagramm\n• Staplerbetrieb\n• Sondereinsatz\, Heben und Mitfahren von Personen\n• Verhalten in Gefahrensituationen\n• Verbote\n• Praxisübungen\n• Prüfung Theorie & Praxis \n Jetzt anmelden & Termin vereinbaren
URL:https://www.bildungszentrum-logistik.at/termin/2-tage-ausbildung-zum-hubstaplerfahrer-in-salzburg-30/
LOCATION:BZL in Salzburg\, Rottfeld 7\, Salzburg\, 5020\, Österreich
CATEGORIES:Hubstaplerfahrer
END:VEVENT
BEGIN:VEVENT
DTSTART;VALUE=DATE:20260626
DTEND;VALUE=DATE:20260628
DTSTAMP:20260420T100609
CREATED:20251104T091746Z
LAST-MODIFIED:20251104T091746Z
UID:10000375-1782432000-1782604799@www.bildungszentrum-logistik.at
SUMMARY:2 Tage - Ausbildung zum Hubstaplerfahrer in Salzburg
DESCRIPTION:Ausbildung gemäß §11 der österreichischen Fachkenntnisnachweis-Verordnung BGBL II Nr.13/2007 des Bundeministeriums für wirtschaftliche Angelegenheiten sowie den Regelwerken des Arbeitnehmerschutzgesetzes/Arbeitsmittelverordnung.\nMindestalter 18 Jahre. Deutschkenntnisse in Wort und Schrift erforderlich. \n  \nKursdatum: 26.06.2026 -27.06.2026 \nKurszeiten: Freitag ab 13:00Uhr\, Samstag ab 08:00Uhr \nVeranstaltungsort: Bildungszentrum Logistik GmbH & Co KG\, Rottfeld 7\, 5020 Salzburg  \n21 Unterrichtseinheiten zu je 50 Minuten – Nutzen Sie unser FR/SA 2-Tageskurs-Angebot! \nIhr Vorteil: Nach erfolgreicher praktischer und theoretischer Prüfung erhalten Sie den Hubstaplerführerausweis\, der Sie zum Lenken und Bedienen von Hubstaplern und Flurförderfahrzeugen berechtigt. \nKursinhalte:\n• Antriebs- und Bedienungsarten\n• Ausrüstung\, Technik und Pflege des Gerätes\n• Wiederkehrende Überprüfung\n• Standsicherheit\n• Tragfähigkeit und Lastendiagramm\n• Staplerbetrieb\n• Sondereinsatz\, Heben und Mitfahren von Personen\n• Verhalten in Gefahrensituationen\n• Verbote\n• Praxisübungen\n• Prüfung Theorie & Praxis \n Jetzt anmelden & Termin vereinbaren
URL:https://www.bildungszentrum-logistik.at/termin/2-tage-ausbildung-zum-hubstaplerfahrer-in-salzburg-31/
LOCATION:BZL in Salzburg\, Rottfeld 7\, Salzburg\, 5020\, Österreich
CATEGORIES:Hubstaplerfahrer
END:VEVENT
BEGIN:VEVENT
DTSTART;VALUE=DATE:20260724
DTEND;VALUE=DATE:20260726
DTSTAMP:20260420T100609
CREATED:20251104T091939Z
LAST-MODIFIED:20251104T091939Z
UID:10000377-1784851200-1785023999@www.bildungszentrum-logistik.at
SUMMARY:2 Tage - Ausbildung zum Hubstaplerfahrer in Salzburg
DESCRIPTION:Ausbildung gemäß §11 der österreichischen Fachkenntnisnachweis-Verordnung BGBL II Nr.13/2007 des Bundeministeriums für wirtschaftliche Angelegenheiten sowie den Regelwerken des Arbeitnehmerschutzgesetzes/Arbeitsmittelverordnung.\nMindestalter 18 Jahre. Deutschkenntnisse in Wort und Schrift erforderlich. \n  \nKursdatum: 24.07.2026 -25.07.2026 \nKurszeiten: Freitag ab 13:00Uhr\, Samstag ab 08:00Uhr \nVeranstaltungsort: Bildungszentrum Logistik GmbH & Co KG\, Rottfeld 7\, 5020 Salzburg  \n21 Unterrichtseinheiten zu je 50 Minuten – Nutzen Sie unser FR/SA 2-Tageskurs-Angebot! \nIhr Vorteil: Nach erfolgreicher praktischer und theoretischer Prüfung erhalten Sie den Hubstaplerführerausweis\, der Sie zum Lenken und Bedienen von Hubstaplern und Flurförderfahrzeugen berechtigt. \nKursinhalte:\n• Antriebs- und Bedienungsarten\n• Ausrüstung\, Technik und Pflege des Gerätes\n• Wiederkehrende Überprüfung\n• Standsicherheit\n• Tragfähigkeit und Lastendiagramm\n• Staplerbetrieb\n• Sondereinsatz\, Heben und Mitfahren von Personen\n• Verhalten in Gefahrensituationen\n• Verbote\n• Praxisübungen\n• Prüfung Theorie & Praxis \n Jetzt anmelden & Termin vereinbaren
URL:https://www.bildungszentrum-logistik.at/termin/2-tage-ausbildung-zum-hubstaplerfahrer-in-salzburg-32/
LOCATION:BZL in Salzburg\, Rottfeld 7\, Salzburg\, 5020\, Österreich
CATEGORIES:Hubstaplerfahrer
END:VEVENT
BEGIN:VEVENT
DTSTART;VALUE=DATE:20260821
DTEND;VALUE=DATE:20260823
DTSTAMP:20260420T100609
CREATED:20251104T092037Z
LAST-MODIFIED:20251104T092037Z
UID:10000378-1787270400-1787443199@www.bildungszentrum-logistik.at
SUMMARY:2 Tage - Ausbildung zum Hubstaplerfahrer in Salzburg
DESCRIPTION:Ausbildung gemäß §11 der österreichischen Fachkenntnisnachweis-Verordnung BGBL II Nr.13/2007 des Bundeministeriums für wirtschaftliche Angelegenheiten sowie den Regelwerken des Arbeitnehmerschutzgesetzes/Arbeitsmittelverordnung.\nMindestalter 18 Jahre. Deutschkenntnisse in Wort und Schrift erforderlich. \n  \nKursdatum: 21.08.2026 -22.08.2026 \nKurszeiten: Freitag ab 13:00Uhr\, Samstag ab 08:00Uhr \nVeranstaltungsort: Bildungszentrum Logistik GmbH & Co KG\, Rottfeld 7\, 5020 Salzburg  \n21 Unterrichtseinheiten zu je 50 Minuten – Nutzen Sie unser FR/SA 2-Tageskurs-Angebot! \nIhr Vorteil: Nach erfolgreicher praktischer und theoretischer Prüfung erhalten Sie den Hubstaplerführerausweis\, der Sie zum Lenken und Bedienen von Hubstaplern und Flurförderfahrzeugen berechtigt. \nKursinhalte:\n• Antriebs- und Bedienungsarten\n• Ausrüstung\, Technik und Pflege des Gerätes\n• Wiederkehrende Überprüfung\n• Standsicherheit\n• Tragfähigkeit und Lastendiagramm\n• Staplerbetrieb\n• Sondereinsatz\, Heben und Mitfahren von Personen\n• Verhalten in Gefahrensituationen\n• Verbote\n• Praxisübungen\n• Prüfung Theorie & Praxis \n Jetzt anmelden & Termin vereinbaren
URL:https://www.bildungszentrum-logistik.at/termin/2-tage-ausbildung-zum-hubstaplerfahrer-in-salzburg-33/
LOCATION:BZL in Salzburg\, Rottfeld 7\, Salzburg\, 5020\, Österreich
CATEGORIES:Hubstaplerfahrer
END:VEVENT
BEGIN:VEVENT
DTSTART;VALUE=DATE:20260925
DTEND;VALUE=DATE:20260927
DTSTAMP:20260420T100609
CREATED:20251104T092252Z
LAST-MODIFIED:20251104T092252Z
UID:10000381-1790294400-1790467199@www.bildungszentrum-logistik.at
SUMMARY:2 Tage - Ausbildung zum Hubstaplerfahrer in Salzburg
DESCRIPTION:Ausbildung gemäß §11 der österreichischen Fachkenntnisnachweis-Verordnung BGBL II Nr.13/2007 des Bundeministeriums für wirtschaftliche Angelegenheiten sowie den Regelwerken des Arbeitnehmerschutzgesetzes/Arbeitsmittelverordnung.\nMindestalter 18 Jahre. Deutschkenntnisse in Wort und Schrift erforderlich. \n  \nKursdatum: 25.09.2026 -26.09.2026 \nKurszeiten: Freitag ab 13:00Uhr\, Samstag ab 08:00Uhr \nVeranstaltungsort: Bildungszentrum Logistik GmbH & Co KG\, Rottfeld 7\, 5020 Salzburg  \n21 Unterrichtseinheiten zu je 50 Minuten – Nutzen Sie unser FR/SA 2-Tageskurs-Angebot! \nIhr Vorteil: Nach erfolgreicher praktischer und theoretischer Prüfung erhalten Sie den Hubstaplerführerausweis\, der Sie zum Lenken und Bedienen von Hubstaplern und Flurförderfahrzeugen berechtigt. \nKursinhalte:\n• Antriebs- und Bedienungsarten\n• Ausrüstung\, Technik und Pflege des Gerätes\n• Wiederkehrende Überprüfung\n• Standsicherheit\n• Tragfähigkeit und Lastendiagramm\n• Staplerbetrieb\n• Sondereinsatz\, Heben und Mitfahren von Personen\n• Verhalten in Gefahrensituationen\n• Verbote\n• Praxisübungen\n• Prüfung Theorie & Praxis \n Jetzt anmelden & Termin vereinbaren
URL:https://www.bildungszentrum-logistik.at/termin/2-tage-ausbildung-zum-hubstaplerfahrer-in-salzburg-34/
LOCATION:BZL in Salzburg\, Rottfeld 7\, Salzburg\, 5020\, Österreich
CATEGORIES:Hubstaplerfahrer
END:VEVENT
BEGIN:VEVENT
DTSTART;VALUE=DATE:20261023
DTEND;VALUE=DATE:20261025
DTSTAMP:20260420T100609
CREATED:20251104T092635Z
LAST-MODIFIED:20251104T092635Z
UID:10000383-1792713600-1792886399@www.bildungszentrum-logistik.at
SUMMARY:2 Tage - Ausbildung zum Hubstaplerfahrer in Salzburg
DESCRIPTION:Ausbildung gemäß §11 der österreichischen Fachkenntnisnachweis-Verordnung BGBL II Nr.13/2007 des Bundeministeriums für wirtschaftliche Angelegenheiten sowie den Regelwerken des Arbeitnehmerschutzgesetzes/Arbeitsmittelverordnung.\nMindestalter 18 Jahre. Deutschkenntnisse in Wort und Schrift erforderlich. \n  \nKursdatum: 23.10.2026 -24.10.2026 \nKurszeiten: Freitag ab 13:00Uhr\, Samstag ab 08:00Uhr \nVeranstaltungsort: Bildungszentrum Logistik GmbH & Co KG\, Rottfeld 7\, 5020 Salzburg  \n21 Unterrichtseinheiten zu je 50 Minuten – Nutzen Sie unser FR/SA 2-Tageskurs-Angebot! \nIhr Vorteil: Nach erfolgreicher praktischer und theoretischer Prüfung erhalten Sie den Hubstaplerführerausweis\, der Sie zum Lenken und Bedienen von Hubstaplern und Flurförderfahrzeugen berechtigt. \nKursinhalte:\n• Antriebs- und Bedienungsarten\n• Ausrüstung\, Technik und Pflege des Gerätes\n• Wiederkehrende Überprüfung\n• Standsicherheit\n• Tragfähigkeit und Lastendiagramm\n• Staplerbetrieb\n• Sondereinsatz\, Heben und Mitfahren von Personen\n• Verhalten in Gefahrensituationen\n• Verbote\n• Praxisübungen\n• Prüfung Theorie & Praxis \n Jetzt anmelden & Termin vereinbaren
URL:https://www.bildungszentrum-logistik.at/termin/2-tage-ausbildung-zum-hubstaplerfahrer-in-salzburg-35/
LOCATION:BZL in Salzburg\, Rottfeld 7\, Salzburg\, 5020\, Österreich
CATEGORIES:Hubstaplerfahrer
END:VEVENT
BEGIN:VEVENT
DTSTART;VALUE=DATE:20261127
DTEND;VALUE=DATE:20261129
DTSTAMP:20260420T100609
CREATED:20251104T092804Z
LAST-MODIFIED:20260226T125047Z
UID:10000385-1795737600-1795910399@www.bildungszentrum-logistik.at
SUMMARY:2 Tage - Ausbildung zum Hubstaplerfahrer in Salzburg
DESCRIPTION:Ausbildung gemäß §11 der österreichischen Fachkenntnisnachweis-Verordnung BGBL II Nr.13/2007 des Bundeministeriums für wirtschaftliche Angelegenheiten sowie den Regelwerken des Arbeitnehmerschutzgesetzes/Arbeitsmittelverordnung.\nMindestalter 18 Jahre. Deutschkenntnisse in Wort und Schrift erforderlich. \n  \nKursdatum: 27.11.2026 -28.11.2026 \nKurszeiten: Freitag ab 13:00Uhr\, Samstag ab 08:00Uhr \nVeranstaltungsort: Bildungszentrum Logistik GmbH & Co KG\, Rottfeld 7\, 5020 Salzburg  \n21 Unterrichtseinheiten zu je 50 Minuten – Nutzen Sie unser FR/SA 2-Tageskurs-Angebot! \nIhr Vorteil: Nach erfolgreicher praktischer und theoretischer Prüfung erhalten Sie den Hubstaplerführerausweis\, der Sie zum Lenken und Bedienen von Hubstaplern und Flurförderfahrzeugen berechtigt. \nKursinhalte:\n• Antriebs- und Bedienungsarten\n• Ausrüstung\, Technik und Pflege des Gerätes\n• Wiederkehrende Überprüfung\n• Standsicherheit\n• Tragfähigkeit und Lastendiagramm\n• Staplerbetrieb\n• Sondereinsatz\, Heben und Mitfahren von Personen\n• Verhalten in Gefahrensituationen\n• Verbote\n• Praxisübungen\n• Prüfung Theorie & Praxis \n Jetzt anmelden & Termin vereinbaren
URL:https://www.bildungszentrum-logistik.at/termin/2-tage-ausbildung-zum-hubstaplerfahrer-in-salzburg-36/
LOCATION:BZL in Salzburg\, Rottfeld 7\, Salzburg\, 5020\, Österreich
CATEGORIES:Hubstaplerfahrer
END:VEVENT
END:VCALENDAR