BEGIN:VCALENDAR
VERSION:2.0
PRODID:-//Bildungszentrum Logistik - ECPv6.15.20//NONSGML v1.0//EN
CALSCALE:GREGORIAN
METHOD:PUBLISH
X-ORIGINAL-URL:https://www.bildungszentrum-logistik.at
X-WR-CALDESC:Veranstaltungen für Bildungszentrum Logistik
REFRESH-INTERVAL;VALUE=DURATION:PT1H
X-Robots-Tag:noindex
X-PUBLISHED-TTL:PT1H
BEGIN:VTIMEZONE
TZID:Europe/Vienna
BEGIN:DAYLIGHT
TZOFFSETFROM:+0100
TZOFFSETTO:+0200
TZNAME:CEST
DTSTART:20190331T010000
END:DAYLIGHT
BEGIN:STANDARD
TZOFFSETFROM:+0200
TZOFFSETTO:+0100
TZNAME:CET
DTSTART:20191027T010000
END:STANDARD
BEGIN:DAYLIGHT
TZOFFSETFROM:+0100
TZOFFSETTO:+0200
TZNAME:CEST
DTSTART:20200329T010000
END:DAYLIGHT
BEGIN:STANDARD
TZOFFSETFROM:+0200
TZOFFSETTO:+0100
TZNAME:CET
DTSTART:20201025T010000
END:STANDARD
BEGIN:DAYLIGHT
TZOFFSETFROM:+0100
TZOFFSETTO:+0200
TZNAME:CEST
DTSTART:20210328T010000
END:DAYLIGHT
BEGIN:STANDARD
TZOFFSETFROM:+0200
TZOFFSETTO:+0100
TZNAME:CET
DTSTART:20211031T010000
END:STANDARD
END:VTIMEZONE
BEGIN:VEVENT
DTSTART;TZID=Europe/Vienna:20200313T130000
DTEND;TZID=Europe/Vienna:20200314T170000
DTSTAMP:20260420T100929
CREATED:20200212T080828Z
LAST-MODIFIED:20200303T125134Z
UID:10000033-1584104400-1584205200@www.bildungszentrum-logistik.at
SUMMARY:2 Tage - Ausbildung zum Hubstaplerfahrer
DESCRIPTION:Ausbildung gemäß §11 der österreichischen Fachkenntnisnachweis-Verordnung BGBL II Nr.13/2007 des Bundeministeriums für wirtschaftliche Angelegenheiten sowie den Regelwerken des Arbeitnehmerschutzgesetzes/Arbeitsmittelverordnung.\nMindestalter 18 Jahre. Deutschkenntnisse in Wort und Schrift erforderlich. \n21 Unterrichtseinheiten zu je 50 Minuten – Nutzen Sie unser FR/SA 2-Tageskurs-Angebot! \nACHTUNG: Unterrichtsbeginn FREITAG: ab 13.00 Uhr\, SAMSTAG ab 8:00 Uhr \nIhr Vorteil: Nach erfolgreicher praktischer und theoretischer Prüfung erhalten Sie den Hubstaplerführerausweis\, der Sie zum Lenken und Bedienen von Hubstaplern und Flurförderfahrzeugen berechtigt. \nKursinhalte:\n• Antriebs- und Bedienungsarten\n• Ausrüstung\, Technik und Pflege des Gerätes\n• Wiederkehrende Überprüfung\n• Standsicherheit\n• Tragfähigkeit und Lastendiagramm\n• Staplerbetrieb\n• Sondereinsatz\, Heben und Mitfahren von Personen\n• Verhalten in Gefahrensituationen\n• Verbote\n• Praxisübungen\n• Prüfung Theorie & Praxis \n Jetzt anmelden & Termin vereinbaren
URL:https://www.bildungszentrum-logistik.at/termin/2-tage-ausbildung-zum-hubstaplerfahrer-2/
LOCATION:Scheffer’s Seminarhotel\, Zauchenseestrasse 27\, Altenmarkt i. Pongau\, 5541\, Österreich
CATEGORIES:Hubstaplerfahrer
ORGANIZER;CN="Bildungszentrum Logistik GmbH & Co KG":MAILTO:office@bildungszentrum-logistik.at
END:VEVENT
END:VCALENDAR